BEGIN:VCALENDAR
VERSION:2.0
PRODID:-//Oasi delle Cicogne - ECPv6.15.20//NONSGML v1.0//EN
CALSCALE:GREGORIAN
METHOD:PUBLISH
X-ORIGINAL-URL:https://oasidellecicogne.it
X-WR-CALDESC:Eventi per Oasi delle Cicogne
REFRESH-INTERVAL;VALUE=DURATION:PT1H
X-Robots-Tag:noindex
X-PUBLISHED-TTL:PT1H
BEGIN:VTIMEZONE
TZID:UTC
BEGIN:STANDARD
TZOFFSETFROM:+0000
TZOFFSETTO:+0000
TZNAME:UTC
DTSTART:20250101T000000
END:STANDARD
END:VTIMEZONE
BEGIN:VEVENT
DTSTART;TZID=UTC:20260329T100000
DTEND;TZID=UTC:20260329T180000
DTSTAMP:20260422T101803
CREATED:20251231T163552Z
LAST-MODIFIED:20251231T163552Z
UID:6331-1774778400-1774807200@oasidellecicogne.it
SUMMARY:Apertura al pubblico 2026
DESCRIPTION:
URL:https://oasidellecicogne.it/eventi/apertura-al-pubblico-2026/
LOCATION:Oasi dei Quadris\, Fagagna\, Italy
CATEGORIES:Apertura domenicale,Evento aperto al pubblico
END:VEVENT
BEGIN:VEVENT
DTSTART;TZID=UTC:20260425T093000
DTEND;TZID=UTC:20260425T183000
DTSTAMP:20260422T101803
CREATED:20260421T153617Z
LAST-MODIFIED:20260421T153617Z
UID:6467-1777109400-1777141800@oasidellecicogne.it
SUMMARY:Festa dell'Oasi dei Quadris - Convegno con la Natura protagonista
DESCRIPTION:
URL:https://oasidellecicogne.it/eventi/festa-delloasi-dei-quadris-convegno-con-la-natura-protagonista/
LOCATION:Oasi dei Quadris\, Fagagna\, Italy
CATEGORIES:Conferenza,Evento aperto al pubblico
END:VEVENT
BEGIN:VEVENT
DTSTART;TZID=UTC:20260426T100000
DTEND;TZID=UTC:20260426T180000
DTSTAMP:20260422T101803
CREATED:20260421T153148Z
LAST-MODIFIED:20260421T153357Z
UID:6462-1777197600-1777226400@oasidellecicogne.it
SUMMARY:2° giorno della Festa Oasi dei Quadris
DESCRIPTION:
URL:https://oasidellecicogne.it/eventi/apertura-oasi-2/
LOCATION:Oasi dei Quadris\, Fagagna\, Italy
CATEGORIES:Conferenza,Evento aperto al pubblico
END:VEVENT
END:VCALENDAR