BEGIN:VCALENDAR
VERSION:2.0
PRODID:-//Oasi delle Cicogne - ECPv6.15.20//NONSGML v1.0//EN
CALSCALE:GREGORIAN
METHOD:PUBLISH
X-ORIGINAL-URL:https://oasidellecicogne.it
X-WR-CALDESC:Eventi per Oasi delle Cicogne
REFRESH-INTERVAL;VALUE=DURATION:PT1H
X-Robots-Tag:noindex
X-PUBLISHED-TTL:PT1H
BEGIN:VTIMEZONE
TZID:UTC
BEGIN:STANDARD
TZOFFSETFROM:+0000
TZOFFSETTO:+0000
TZNAME:UTC
DTSTART:20240101T000000
END:STANDARD
END:VTIMEZONE
BEGIN:VEVENT
DTSTART;TZID=UTC:20250704T210000
DTEND;TZID=UTC:20250704T230000
DTSTAMP:20260425T031040
CREATED:20250630T102015Z
LAST-MODIFIED:20250630T102548Z
UID:5644-1751662800-1751670000@oasidellecicogne.it
SUMMARY:Vita nei campi - storie di terra\, uomini e bestie di Angelo FLORAMO
DESCRIPTION:
URL:https://oasidellecicogne.it/eventi/vita-nei-campi-storie-di-terra-uomini-e-bestie-di-angelo-floramo/
LOCATION:Museo Cjase Cocel – Fagagna\, Via Lisignana\, Fagagna\, Italy
CATEGORIES:Conferenza
ATTACH;FMTTYPE=image/jpeg:https://oasidellecicogne.it/wp-content/uploads/2025/06/20250704_A_Floramo.jpg
END:VEVENT
END:VCALENDAR